BEGIN:VCALENDAR
VERSION:2.0
PRODID:-//Tukios.com/
BEGIN:VEVENT
UID:186c69da-84fe-4b34-8768-e527a487c9d2@www.banisterfuneral.com
DTSTAMP:20260422T200829Z
DTSTART:20260428T154500Z
DTEND:20260428T164500Z
SUMMARY:Interment
DESCRIPTION:
URL:https://www.banisterfuneral.com/obituaries/caleb-warren
LOCATION:Alabama National Cemetery 3133 Highway 119  Montevallo AL 35115
GEO:33.1331447;-86.8383485
END:VEVENT
END:VCALENDAR