BEGIN:VCALENDAR
VERSION:2.0
PRODID:-//Tukios.com/
BEGIN:VEVENT
UID:01c131f1-dd41-4bbc-bed0-0a89765b1c51@www.banisterfuneral.com
DTSTAMP:20260422T200425Z
DTSTART:20260425T190000Z
DTEND:20260425T200000Z
SUMMARY:Funeral Service
DESCRIPTION:
URL:https://www.banisterfuneral.com/obituaries/caleb-warren
LOCATION:   Hiawassee GA 
GEO:34.949973;-83.752606
END:VEVENT
END:VCALENDAR