BEGIN:VCALENDAR
VERSION:2.0
PRODID:-//Tukios.com/
BEGIN:VEVENT
UID:e482fb67-9fd4-4570-bbfa-33f0223f6b88@www.banisterfuneral.com
DTSTAMP:20260422T200716Z
DTSTART:20260425T170000Z
DTEND:20260425T190000Z
SUMMARY:Visitation
DESCRIPTION:
URL:https://www.banisterfuneral.com/obituaries/caleb-warren
LOCATION:   Hiawassee GA 
GEO:34.949973;-83.752606
END:VEVENT
END:VCALENDAR