BEGIN:VCALENDAR
VERSION:2.0
PRODID:-//Tukios.com/
BEGIN:VEVENT
UID:c4b6efa0-d948-46bf-8754-e3711c081753@www.banisterfuneral.com
DTSTAMP:20260420T020918Z
DTSTART:20260421T180000Z
DTEND:20260421T190000Z
SUMMARY:Funeral Service
DESCRIPTION:
URL:https://www.banisterfuneral.com/obituaries/audie-bradley
LOCATION:Banister-Cooper Funeral Home 678 North Main St. P.O. Box 70  
	Hiawassee GA 30546
GEO:34.9492586;-83.7573948
END:VEVENT
END:VCALENDAR