BEGIN:VCALENDAR
VERSION:2.0
PRODID:-//Tukios.com/
BEGIN:VEVENT
UID:70153c05-cda4-49b6-a43c-1a3e3c4a012d@www.banisterfuneral.com
DTSTAMP:20260420T020830Z
DTSTART:20260421T170000Z
DTEND:20260421T180000Z
SUMMARY:Visitation
DESCRIPTION:
URL:https://www.banisterfuneral.com/obituaries/audie-bradley
LOCATION:Banister-Cooper Funeral Home 678 North Main St. P.O. Box 70  
	Hiawassee GA 30546
GEO:34.9492586;-83.7573948
END:VEVENT
END:VCALENDAR